BEGIN:VCALENDAR
VERSION:2.0
BEGIN:VEVENT
SUMMARY:Evento 2 &#8211; Cierre de Inscipcion
DTSTART:20260501T180000
DTEND:20260501T190000
DESCRIPTION:Evento informaco por UNSa - Ciencias Exactas
END:VEVENT
END:VCALENDAR
